BEGIN:VCALENDAR
VERSION:2.0
PRODID:-//nahpa.fr - ECPv6.15.20//NONSGML v1.0//EN
CALSCALE:GREGORIAN
METHOD:PUBLISH
X-ORIGINAL-URL:https://nahpa.fr
X-WR-CALDESC:Évènements pour nahpa.fr
REFRESH-INTERVAL;VALUE=DURATION:PT1H
X-Robots-Tag:noindex
X-PUBLISHED-TTL:PT1H
BEGIN:VTIMEZONE
TZID:UTC
BEGIN:STANDARD
TZOFFSETFROM:+0000
TZOFFSETTO:+0000
TZNAME:UTC
DTSTART:20240101T000000
END:STANDARD
END:VTIMEZONE
BEGIN:VEVENT
DTSTART;TZID=UTC:20250203T083000
DTEND;TZID=UTC:20250203T150000
DTSTAMP:20260425T180710
CREATED:20250130T113625Z
LAST-MODIFIED:20250130T113625Z
UID:867-1738571400-1738594800@nahpa.fr
SUMMARY:Assemblée Générale FDHPA17
DESCRIPTION:La FDHPA17 organise sont Assemblée Générale le 3 février 2025 à destination des campings du 17\, 16\, 79 et 86. Elle sera suivi d’un buffet déjeunatoire.
URL:https://nahpa.fr/event/assemblee-generale-fdhpa17/
CATEGORIES:Agenda
ATTACH;FMTTYPE=image/png:https://nahpa.fr/wp-content/uploads/2024/11/LOGO-FNHPA-OVAL-TENTE-logo-Q.png
ORGANIZER;CN="Fdhpa17":MAILTO:contact@salon-atlantica.com
END:VEVENT
BEGIN:VEVENT
DTSTART;TZID=UTC:20250204T081500
DTEND;TZID=UTC:20250204T160000
DTSTAMP:20260425T180710
CREATED:20250130T113043Z
LAST-MODIFIED:20250130T113849Z
UID:864-1738656900-1738684800@nahpa.fr
SUMMARY:Assemblée Générale SDHPA Gironde et Workshop Fournisseurs
DESCRIPTION:Le SDHPA 33  organise sont Assemblée Générale et un Workshop Fournisseurs le 4 Février prochain à destination des campings de Gironde. \nAu Programme :\n🔹Assemblée Générale Statutaire\n🔹Développement durable : Actualités et expérimentations\nInterventions de la NAHPA et de l’Interfilière du Tourisme Durable de Nouvelle Aquitaine\nParoles au professionnels / retours d’expériences de gestionnaires de campings\n🔹 Workshop Fournisseurs \n 
URL:https://nahpa.fr/event/assemblee-generale-sdhpa-gironde-et-workshop-fournisseurs/
CATEGORIES:Agenda
ATTACH;FMTTYPE=image/jpeg:https://nahpa.fr/wp-content/uploads/2024/11/sdhpa33.jpg
END:VEVENT
BEGIN:VEVENT
DTSTART;TZID=UTC:20250218T160000
DTEND;TZID=UTC:20250218T170000
DTSTAMP:20260425T180710
CREATED:20250130T103626Z
LAST-MODIFIED:20250130T112049Z
UID:852-1739894400-1739898000@nahpa.fr
SUMMARY:Webinaire Ti Pense > Cybersécurité
DESCRIPTION:Rejoignez-nous le 18 février  à 16h pour un webinaire essentiel sur la cyber sécurité\, spécialement conçu pour les petites et moyennes entreprises de l’industrie hôtelière\, de la restauration et des territoires à travers les offices de tourisme. \nDécouvrez les meilleures pratiques pour protéger vos données et assurer la sécurité de vos opérations grâce à l’intervention d’Olivier Grall\, directeur adjoint du Campus Régional de Cybersécurité de Nouvelle-Aquitaine . Ne manquez pas cette opportunité de renforcer votre résilience face aux cybermenaces ! \nAu programme :\n🔹Comprendre les cybermenaces\n🔹Adopter les bons gestes\n🔹Réagir en cas d’attaque\n🔹Les solutions existantes \nInscrivez-vous ici : Billetterie : Webinaire Ti Pense > Cybersécurité : bonnes pratiques et solutions – Billetweb
URL:https://nahpa.fr/event/webinaire-ti-pense-cybersecurite/
LOCATION:en ligne\, France
CATEGORIES:Agenda
ATTACH;FMTTYPE=image/png:https://nahpa.fr/wp-content/uploads/2025/01/Template-01-Webinaire-2.png
END:VEVENT
END:VCALENDAR