BEGIN:VCALENDAR
VERSION:2.0
PRODID:-//nahpa.fr - ECPv6.15.20//NONSGML v1.0//EN
CALSCALE:GREGORIAN
METHOD:PUBLISH
X-WR-CALNAME:nahpa.fr
X-ORIGINAL-URL:https://nahpa.fr
X-WR-CALDESC:Évènements pour nahpa.fr
REFRESH-INTERVAL;VALUE=DURATION:PT1H
X-Robots-Tag:noindex
X-PUBLISHED-TTL:PT1H
BEGIN:VTIMEZONE
TZID:UTC
BEGIN:STANDARD
TZOFFSETFROM:+0000
TZOFFSETTO:+0000
TZNAME:UTC
DTSTART:20240101T000000
END:STANDARD
END:VTIMEZONE
BEGIN:VEVENT
DTSTART;TZID=UTC:20250401T110000
DTEND;TZID=UTC:20250401T123000
DTSTAMP:20260425T153149
CREATED:20250228T140725Z
LAST-MODIFIED:20250228T141154Z
UID:900-1743505200-1743510600@nahpa.fr
SUMMARY:Webinaire / Hébergements touristiques : faire face aux prochaines sécheresses - Mardi 1er avril à 11h00
DESCRIPTION:Ecofilae\, société de conseil et d’ingénierie spécialiste de la sobriété hydrique et de la réduction de l’empreinte eau\, propose webinaire prévu le mardi 1er avril à 11h00 dédiée au secteur de l’hébergement de plein air et des structures hôtelières. \nConsacrée à la réduction de l’empreinte eau des hébergements de plein air et des complexes hôteliers\, cette rencontre mobilise l’expertise de : \n\nNicolas Condom\, président fondateur Ecofilae\nVincent de Sepulveda\, ingénieur référent Campings\, Piscines et Loisirs\nMaxime Thibaudeau\, Responsable des projets transversaux CRTNA (Comité Régional du Tourisme Nouvelle-Aquitaine)\nAurélia Quillet\, Cheffe de projets développement durable\, NAHPA (Fédération d’Hôtellerie de Plein Air de Nouvelle Aquitaine)\nMathilde Lecourt\, Chargée de mission Interfilière de Tourisme durable en Nouvelle-Aquitaine\, UNAT-NA\, UMIHNA et NAHPA\n\nL’eau\, cette ressource essentielle au maintien des activités de tourisme  \nLes professionnels des hébergements de plein air et des complexes hôteliers font face aux problématiques d’accès à la ressource en eau. Fréquemment situées dans des zones vulnérables aux restrictions et aux épisodes de sécheresse\, ces structures d’accueil touristiques sont également tenues de respecter des exigences environnementales en évolution constante. \nEntre le maintien des labels et la garantie d’apparaitre aux guides de tourisme dit « durable »\, un équilibre est à trouver pour préserver la ressource lorsqu’en parallèle\, on observe une augmentation majorée de l’eau entre la consommation touristique et domestique pour un même individu (149 litres à domicile par jour et par personne\, selon le CIEAU* versus 230 litres en vacances\, source DGE**). \nEnfin\, la haute saison correspond à une période où l’eau est en tension\, tout particulièrement sur les zones littorales et l’augmentation des redevances des Agences de l’Eau entraine un coût de la ressource de plus en plus conséquent dans les budgets des hébergements touristiques. \nPlusieurs interrogations et problématiques sont régulièrement mentionnées par les professionnels du secteur : \n\nComment sécuriser ces activités tout en préservant la ressource ?\nQuels sont les autres gisements alternatifs à l’eau conventionnelle ?\nQuelles sont les nouvelles perspectives offertes de la règlementation ?\nQui peut financer et accompagner ces démarches ?\n\nAu programme de cette rencontre : \n\nEau & tourisme les grands chiffres du secteur\nLa réglementation : où en sommes-nous ?\nRetours d’expériences à l’international et en France\nTémoignage du Comité Régional du Tourisme Nouvelle-Aquitaine (CRTNA)\nDe l’idée au projet durable : les règles d’or pour réussir\n\nToutes les informations et inscription ici 
URL:https://nahpa.fr/event/webinaire-hebergements-touristiques-faire-face-aux-prochaines-secheresses-mardi-1er-avril-a-11h00/
CATEGORIES:Agenda
ATTACH;FMTTYPE=image/png:https://nahpa.fr/wp-content/uploads/2025/02/ecofilae.png
ORGANIZER;CN="Ecofilae":MAILTO:contact@ecofilae.fr
END:VEVENT
BEGIN:VEVENT
DTSTART;TZID=UTC:20250409T093000
DTEND;TZID=UTC:20250409T183000
DTSTAMP:20260425T153149
CREATED:20250228T131554Z
LAST-MODIFIED:20250228T135042Z
UID:894-1744191000-1744223400@nahpa.fr
SUMMARY:Rencontres Régionales du Tourisme - Mercredi 9 avril 2025 de 9h30 à 17h30
DESCRIPTION:Alain ROUSSET\, Président du Conseil Régional de Nouvelle Aquitaine et Rémi JUSTINIEN\, Vice-Président en charge de l’Economie de la Mer\, du Tourisme et de l’Economie Territoriale vous invitent à participer à la seconde édition des Rencontres Régionales du Tourisme : Mercredi 9 avril 2025 de 9h30 à 18h30 à l’Hôtel de Région – Salle Jacques Chaban-Delmas – Bordeaux \nL’objectif de ces deuxièmes rencontres\, deux ans après son lancement\, est de partager un état d’avancement de la feuille de route « Tourisme Durable en Nouvelle-Aquitaine » autour de trois axes : \n\nL’adaptation au changement climatique\,\nLa mobilité décarbonée\,\nLa responsabilité sociétale des entreprises et des organisations\, la qualité de vie et conditions de travail et l’inclusion.\n\nProgramme \nAvec la participation de la Mission des Offices de Tourisme de Nouvelle-Aquitaine\, du Comité Régional du Tourisme\, du Tourisme LAB Nouvelle-Aquitaine\, des têtes de réseaux professionnelles (ARGAT\, UMIHNA\, UNAT NA et NAHPA) et L’Interfilière de Tourisme Durable en Nouvelle-Aquitaine. \nCoordination de la matinée par Pascal Charrier\, Région Nouvelle-Aquitaine. \n09:30 – 10:00  Accueil café \n10 :00 – 10:30 Ouverture des Rencontres Régionales du Tourisme Durable par Alain Rousset\, Président de la Région Nouvelle-Aquitaine \n10:30 – 12:15 Conférence « Vers une écologie touristique territoriale en Nouvelle-Aquitaine » \n\nRémi Justinien\, Vice-Président de la région en charge de l’Economie de la mer\, du Tourisme et de l’Economie territoriale\nEmmanuelle Ledoux\, directrice générale de l’Institut national de l’économie circulaire (INEC)\nSabine Jean-Dubourg\, fondatrice et dirigeante du Cabinet The A Lab mais également Déléguée du Conseil National des Achats\nThomas Binet\, fondateur et directeur du bureau d’études Vertigo Lab\nAnimée par Antoine Chotard\, responsable du labo d’idées NéoTopies et organisateur du salon inversé NéoBusiness d’ADI Nouvelle-Aquitaine\n\n 12:15 – 14:00 Déjeuner dans les salons de l’hôtel de Région (salons du 1er étage) \n***    ATELIERS   *** \n14:00 – 16:15 Fresque de la mobilité \n\nAnimée par Jocelyn Noirot\, Comité Régional du Tourisme de Nouvelle-Aquitaine\n\n⚠️ Attention : cet atelier dure 2h15 et ne peut pas être cumulé avec une table ronde \n14:00 – 15:00 Ateliers #1 en table ronde – 4 thématiques au choix : \n\nAdaptation aux changements climatiques : ils se bougent !\nQualité de vie et des conditions de travail\, une stratégie RH gagnante pour recruter et fidéliser ses salariés\nDe nouveaux modèles d’affaires au service des transitions : ils l’ont fait !\nGestion des flux\, aménagement territorial et coopération locale : la difficile équation du dernier km touristique\n\n15:15 – 16:15 Ateliers #2  en table ronde – 4 thématiques au choix : \n\nRegards d’experts : entre décarbonation et attractivité\, les enjeux de l’aérien en Nouvelle-Aquitaine\nMixité sociale : un levier économique et une responsabilité sociale\nPassez à l’action : des outils pour engager vos clientèles dans les transitions écologiques\nS’engager dans une démarche RSE/RSO : quels accompagnements et bonnes pratiques ?\n\n  \n***   RENDEZ-VOUS D’AFFAIRES   *** \n16:30 – 18:10 \nContactez les autres participants et planifiez dès maintenant jusqu’à 5 rendez-vous d’affaires de 20 minutes sur les créneaux proposés. \nInscription obligatoire ici  \nAccès gratuit dans la limite des places disponibles \n Contact :   \nDirection Tourisme – Région Nouvelle-Aquitaine \nMail : tourisme@nouvelle-aquitaine.fr / Tel : 05.16.01.40.55 \n  \n 
URL:https://nahpa.fr/event/rencontres-regionales-du-tourisme-mercredi-9-avril-2025-de-9h30-a-18h30/
LOCATION:Hôtel de Région – Salle Jacques Chaban-Delmas – Bordeaux\, 14 rue François de Sourdis\, Bordeaux\, Gironde\, 33000\, France
CATEGORIES:Agenda
ATTACH;FMTTYPE=image/jpeg:https://nahpa.fr/wp-content/uploads/2024/03/logo_na_horiz_QUADRI_2019.jpg
ORGANIZER;CN="R%C3%A9gion Nouvelle Aquitaine":MAILTO:tourisme@nouvelle-aquitaine.fr
END:VEVENT
END:VCALENDAR