BEGIN:VCALENDAR
VERSION:2.0
PRODID:-//nahpa.fr - ECPv6.15.20//NONSGML v1.0//EN
CALSCALE:GREGORIAN
METHOD:PUBLISH
X-WR-CALNAME:nahpa.fr
X-ORIGINAL-URL:https://nahpa.fr
X-WR-CALDESC:Évènements pour nahpa.fr
REFRESH-INTERVAL;VALUE=DURATION:PT1H
X-Robots-Tag:noindex
X-PUBLISHED-TTL:PT1H
BEGIN:VTIMEZONE
TZID:UTC
BEGIN:STANDARD
TZOFFSETFROM:+0000
TZOFFSETTO:+0000
TZNAME:UTC
DTSTART:20230101T000000
END:STANDARD
END:VTIMEZONE
BEGIN:VEVENT
DTSTART;VALUE=DATE:20241008
DTEND;VALUE=DATE:20241011
DTSTAMP:20260426T010803
CREATED:20240227T143820Z
LAST-MODIFIED:20240318T160507Z
UID:97-1728345600-1728604799@nahpa.fr
SUMMARY:Salon Atlantica 2024
DESCRIPTION:Le 1er salon dédié aux professionnels sur la côte Atlantique !\nRendez-vous les 8\, 9 et 10 octobre 2024 à Niort !\nNouvelles tendances – hébergement touristique – Hôtellerie de Plein Air – équipements – loisirs – services\nPiscine & Spa – Aménagements – Café – Hôtellerie – Restauration – Développement Durable
URL:https://nahpa.fr/event/salon-atlantica/
LOCATION:Parc des Expositions de Noron\, 6 Rue Archimède\, Niort\, 79000\, France
CATEGORIES:Agenda
ATTACH;FMTTYPE=image/jpeg:https://nahpa.fr/wp-content/uploads/2024/02/300X250.jpg
ORGANIZER;CN="Fdhpa17":MAILTO:contact@salon-atlantica.com
END:VEVENT
END:VCALENDAR