BEGIN:VCALENDAR
VERSION:2.0
PRODID:-//nahpa.fr - ECPv6.15.20//NONSGML v1.0//EN
CALSCALE:GREGORIAN
METHOD:PUBLISH
X-ORIGINAL-URL:https://nahpa.fr
X-WR-CALDESC:Évènements pour nahpa.fr
REFRESH-INTERVAL;VALUE=DURATION:PT1H
X-Robots-Tag:noindex
X-PUBLISHED-TTL:PT1H
BEGIN:VTIMEZONE
TZID:UTC
BEGIN:STANDARD
TZOFFSETFROM:+0000
TZOFFSETTO:+0000
TZNAME:UTC
DTSTART:20240101T000000
END:STANDARD
END:VTIMEZONE
BEGIN:VEVENT
DTSTART;VALUE=DATE:20250115
DTEND;VALUE=DATE:20250116
DTSTAMP:20260425T221709
CREATED:20241122T134333Z
LAST-MODIFIED:20250130T142334Z
UID:638-1736899200-1736985599@nahpa.fr
SUMMARY:Workshop et AG Fédération Régionale d'Hôtellerie de Plein Air du Limousin
DESCRIPTION:La Fédération Régionale de l’Hôtellerie de Plein Air du Limousin organise un workshop et son Assemblé Générale le 15 janvier 2025 à Brive-la-Gaillarde. \nAu programme : \n\nDes conférences\nUn repas convivial avec les campings du Limousin\nL’Assemblée générale réservé aux adhérents et futurs membres
URL:https://nahpa.fr/event/workshop-et-ag-federation-regionale-dhotellerie-de-plein-air-du-limousin/
LOCATION:Brive-la-Gaillarde Commune en France\, France
CATEGORIES:Agenda
ATTACH;FMTTYPE=image/png:https://nahpa.fr/wp-content/uploads/2024/11/CAMPING-LIMOUSIN.png
END:VEVENT
END:VCALENDAR